BEGIN:VCALENDAR
VERSION:2.0
PRODID:-//DeviceAlliance - ECPv4.9.7//NONSGML v1.0//EN
CALSCALE:GREGORIAN
METHOD:PUBLISH
X-WR-CALNAME:DeviceAlliance
X-ORIGINAL-URL:https://www.devicealliance.org
X-WR-CALDESC:Events for DeviceAlliance
BEGIN:VTIMEZONE
TZID:"America/Los_Angeles"
BEGIN:DAYLIGHT
TZOFFSETFROM:-0800
TZOFFSETTO:-0700
TZNAME:PDT
DTSTART:20170312T100000
END:DAYLIGHT
BEGIN:STANDARD
TZOFFSETFROM:-0700
TZOFFSETTO:-0800
TZNAME:PST
DTSTART:20171105T090000
END:STANDARD
END:VTIMEZONE
BEGIN:VEVENT
DTSTART;TZID="America/Los_Angeles":20170816T173000
DTEND;TZID="America/Los_Angeles":20170816T193000
DTSTAMP:20260419T161546
CREATED:20170615T163629Z
LAST-MODIFIED:20170724T215513Z
UID:118-1502904600-1502911800@www.devicealliance.org
SUMMARY:Summer Mixer
DESCRIPTION:Mixer events provide casual environments for connecting\, networking and having collegial discussions on topics affecting virtually all medical device enterprises.\n \n
URL:https://www.devicealliance.org/event/summer-mixer/
LOCATION:Bluewater Grill\, 2409 Park Ave\, Tustin\, CA\, 92782\, United States
CATEGORIES:Orange County
ATTACH;FMTTYPE=image/png:https://www.devicealliance.org/wp-content/uploads/2017/06/site-icon-1.png
END:VEVENT
END:VCALENDAR