BEGIN:VCALENDAR
VERSION:2.0
PRODID:-//DeviceAlliance - ECPv4.9.7//NONSGML v1.0//EN
CALSCALE:GREGORIAN
METHOD:PUBLISH
X-WR-CALNAME:DeviceAlliance
X-ORIGINAL-URL:https://www.devicealliance.org
X-WR-CALDESC:Events for DeviceAlliance
BEGIN:VTIMEZONE
TZID:"America/Los_Angeles"
BEGIN:DAYLIGHT
TZOFFSETFROM:-0800
TZOFFSETTO:-0700
TZNAME:PDT
DTSTART:20180311T100000
END:DAYLIGHT
BEGIN:STANDARD
TZOFFSETFROM:-0700
TZOFFSETTO:-0800
TZNAME:PST
DTSTART:20181104T090000
END:STANDARD
END:VTIMEZONE
BEGIN:VEVENT
DTSTART;TZID="America/Los_Angeles":20180321T173000
DTEND;TZID="America/Los_Angeles":20180321T193000
DTSTAMP:20260422T082420
CREATED:20171211T194314Z
LAST-MODIFIED:20180209T162142Z
UID:480-1521653400-1521660600@www.devicealliance.org
SUMMARY:Med Dev Industry Mixer
DESCRIPTION:We’re excited to be back at our favorite location in Tustin\, CA and with our new venue partners Prego Ristaurante. (located in The Tustin District at the former location of the Bluewater Grill) Our mixers are great opportunities to meet good people\, engage in thought provoking conversation and of course have fun along the way. \nDeviceAlliance members get in free\, non-members $25 online or $30 at the door. \nThis is an open networking event\, all comers are welcome!\n \n
URL:https://www.devicealliance.org/event/med-dev-industry-mixer/
LOCATION:Prego Ristorante\, 2409 Park Ave.\, Tustin\, CA\, 92782\, United States
CATEGORIES:Orange County
ATTACH;FMTTYPE=image/png:https://www.devicealliance.org/wp-content/uploads/2017/12/prego.png
GEO:33.6982714;-117.8281125
X-APPLE-STRUCTURED-LOCATION;VALUE=URI;X-ADDRESS=Prego Ristorante 2409 Park Ave. Tustin CA 92782 United States;X-APPLE-RADIUS=500;X-TITLE=2409 Park Ave.:geo:-117.8281125,33.6982714
END:VEVENT
END:VCALENDAR