BEGIN:VCALENDAR
VERSION:2.0
PRODID:-//DeviceAlliance - ECPv4.9.7//NONSGML v1.0//EN
CALSCALE:GREGORIAN
METHOD:PUBLISH
X-WR-CALNAME:DeviceAlliance
X-ORIGINAL-URL:https://www.devicealliance.org
X-WR-CALDESC:Events for DeviceAlliance
BEGIN:VTIMEZONE
TZID:"America/Los_Angeles"
BEGIN:DAYLIGHT
TZOFFSETFROM:-0800
TZOFFSETTO:-0700
TZNAME:PDT
DTSTART:20170312T100000
END:DAYLIGHT
BEGIN:STANDARD
TZOFFSETFROM:-0700
TZOFFSETTO:-0800
TZNAME:PST
DTSTART:20171105T090000
END:STANDARD
END:VTIMEZONE
BEGIN:VEVENT
DTSTART;TZID="America/Los_Angeles":20170925T173000
DTEND;TZID="America/Los_Angeles":20170925T193000
DTSTAMP:20260419T144523
CREATED:20170823T165725Z
LAST-MODIFIED:20170908T212531Z
UID:293-1506360600-1506367800@www.devicealliance.org
SUMMARY:DeviceAlliance Partners Exhibition Event
DESCRIPTION: \nJoin us at The Vine OC in Irvine for a unique networking event where we’ll have an intimate opportunity to learn about several hand picked businesses and their impact on the Southern California medical device industry. This is an opportunity to expand your networks and industry connections\, while building relationships with key services providers in the local area. Each business will share with the audience their specialty and the impact they provide to their customers. \nAttendees will have an opportunity to interact directly with each business while participating in DeviceAlliance’s ‘Best in Show’ awards ceremony. \nEvent details & Logistics below… \nMeet Our Exhibitors\nGold Sponsors  Platinum Sponsor  \n\nAdditional Exhibitors\n                               \n  \nInterested in being an Exhibitor?\nBookings went quick!  We are completely booked for this event\, if you have interest in being an exhibitor at a future DeviceAlliance event please contact our President\,Travis Smith.\nPhone: 949-422-2995\nEmail: tsmith@devicealliance.org \nRegister for Event Here\n\n
URL:https://www.devicealliance.org/event/devicealliance-partners-exhibition-even/
LOCATION:The Auld Dubliner\, 2497 Park Ave\, Tustin\, CA\, 92682\, United States
CATEGORIES:Orange County
GEO:33.6980974;-117.8272734
X-APPLE-STRUCTURED-LOCATION;VALUE=URI;X-ADDRESS=The Auld Dubliner 2497 Park Ave Tustin CA 92682 United States;X-APPLE-RADIUS=500;X-TITLE=2497 Park Ave:geo:-117.8272734,33.6980974
END:VEVENT
END:VCALENDAR