BEGIN:VCALENDAR
VERSION:2.0
PRODID:-//DeviceAlliance - ECPv4.9.7//NONSGML v1.0//EN
CALSCALE:GREGORIAN
METHOD:PUBLISH
X-WR-CALNAME:DeviceAlliance
X-ORIGINAL-URL:https://www.devicealliance.org
X-WR-CALDESC:Events for DeviceAlliance
BEGIN:VTIMEZONE
TZID:"America/Los_Angeles"
BEGIN:DAYLIGHT
TZOFFSETFROM:-0800
TZOFFSETTO:-0700
TZNAME:PDT
DTSTART:20180311T100000
END:DAYLIGHT
BEGIN:STANDARD
TZOFFSETFROM:-0700
TZOFFSETTO:-0800
TZNAME:PST
DTSTART:20181104T090000
END:STANDARD
END:VTIMEZONE
BEGIN:VEVENT
DTSTART;TZID="America/Los_Angeles":20180220T173000
DTEND;TZID="America/Los_Angeles":20180220T193000
DTSTAMP:20260419T134454
CREATED:20171211T194212Z
LAST-MODIFIED:20180214T032829Z
UID:479-1519147800-1519155000@www.devicealliance.org
SUMMARY:Career Navigation Event & Workshop
DESCRIPTION:Join DeviceAlliance\, in partnership with UCI’s Division of Continuing Education (DCE)\, on Tuesday\, February 20th as we unfold the secrets to career success and the multitude of learning opportunities along the way.  Event starts with a town hall discussion as we will transgress from the student/ recent graduate career through to retirement\, and everything in between. Hear from a panel of experts about their careers in medical device and the situations they faced.  After our town hall discussion we will split up into three workshops to dive further into career segments such as: \nI. Early Stage; II. Corporate; III. Entrepreneurship & Consulting. \nEXPERT PANELIST: \n \n  \nWHAT WE’LL LEARN IN EACH WORKSHOP: \n\nEarly Stage – hear from speakers on how they successfully landed their first job out of school and the choices they made to position themselves to begin growing their careers [workshop best suited for students and employees within the 1st five years of their career]\n\n2. Corporate – this workshop is for people who work for a corporation\, regardless of its size\, and are seeking additional information on how to climb the corporate ladder\, grow professionally and what to be aware of along the way; we’ll also cover the tough decision many professionals face – go into management or remain an individual contributor [workshop best suited for professionals who are currently or plan to continue working for a company in ‘corporate America’\, regardless of the size of the company] \n3. Entrepreneurs & Consulting – a fantastic workshop for anyone who is currently doing this or thinking going out on their own.  We’ll cover how to make the jump into the sole proprietor/ consulting or entrepreneur space as well as areas of opportunity and learning; hear from people actively doing it and why they made the decision to be their own boss [workshop best suited for anyone who is interested in starting a business\, already owns a business and needs help or working as a consultant/ solopreneur]  \nDeviceAlliance members and students get in FREE \nNon-members or non-students pay $25 online or $35 at the door. \nWe kindly request ALL attendees to register ahead of time to help reduce check in lines. \n \nThis is an open event\, all comers are welcome! \n \nDirections:\nThis event is located at The Division of Continuing Education on UCI campus\, building 8. We will be hosting the town hall meeting in the Yosemite room which is off the main courtyard on the first floor. For additional directions please click HERE \nParking: \nPlease make sure you allocate at least 15 minutes of extra time in your schedule so that you can park and walk to the event.  There are several options for parking as follows: \nBEST Option: Lot 17 offers the best parking as it is located directly behind UCI DCE’s building 8. (it fills up quickly so arrive early if you plan to use this option)\n2nd Option: Anteater Parking Lot would be an alternative choice; closer in proximity to building 8 than option 3. \n3rd Option: Social Science Parking Structure offers an alternative choice; please note the walk is several blocks to reach the DCE building 8 located at 510 E Peltason Drive \n \n
URL:https://www.devicealliance.org/event/career-navigation-speaker-engagement-workshop/
LOCATION:UCI DCE\, 510 E Peltason Dr.\, building 8\, Irvine\, CA\, 92697\, United States
CATEGORIES:Orange County
ATTACH;FMTTYPE=image/jpeg:https://www.devicealliance.org/wp-content/uploads/2017/12/career-navig1-1.jpg
GEO:33.6449774;-117.8347909
X-APPLE-STRUCTURED-LOCATION;VALUE=URI;X-ADDRESS=UCI DCE 510 E Peltason Dr. building 8 Irvine CA 92697 United States;X-APPLE-RADIUS=500;X-TITLE=510 E Peltason Dr.\, building 8:geo:-117.8347909,33.6449774
END:VEVENT
END:VCALENDAR